BEGIN:VCALENDAR
VERSION:2.0
PRODID:-//eventon.com NONSGML v1.0//EN
CALSCALE:GREGORIAN
METHOD:PUBLISH
BEGIN:VEVENT
UID:69e76b987c28f
DTSTAMP:20260421T122040Z
DTSTART:20241018
DTEND:20241019
LOCATION:Consell Consell\,  Mallorca
SUMMARY:Fira del Vi | XXVII Fira de Tardor in Consell
DESCRIPTION:Die kleine Gemeinde Consell wird vom 18. bis 20. Oktober 2024 w
 ieder zur Bühne für eines der schönsten Events des Jahres: die Fira de T
 ardor und die Fira del Vi. Diese beiden Messen sind nicht nur tief in der K
 ultur und Tradition der Region verwurzelt\,  sondern ein wahres Fest für[.
 .]\nhttps://isla-travel.de/es/mallorca-magazin/events/fira-del-vi-xxvii-fir
 a-de-tardor-in-consell/
URL:https://isla-travel.de/es/mallorca-magazin/events/fira-del-vi-xxvii-fira-de-tardor-in-consell/
END:VEVENT
END:VCALENDAR