BEGIN:VCALENDAR
VERSION:2.0
PRODID:-//eventon.com NONSGML v1.0//EN
CALSCALE:GREGORIAN
METHOD:PUBLISH
BEGIN:VEVENT
UID:69e79920902c0
DTSTAMP:20260421T153456Z
DTSTART:20241017
DTEND:20241018
LOCATION:Vilafranca de Bonany Vilafranca de Bonany\,  Mallorca
SUMMARY:FIET 2024
DESCRIPTION:Vom 17. bis 20. Oktober 2024 verwandelt sich das beschauliche S
 tädtchen Vilafranca de Bonany wieder in ein pulsierendes Zentrum für Kind
 er- und Jugendtheater\,  wenn die Fira de Teatre Infantil i Juvenil de les 
 Illes Balears (FIET) ihre 22. Ausgabe feiert. Dieses einzigartige Festival 
 hat sich seit seiner Gründung im Jahr[..]\nhttps://isla-travel.de/it/mallo
 rca-magazin/events/fiet-2024/
URL:https://isla-travel.de/it/mallorca-magazin/events/fiet-2024/
END:VEVENT
END:VCALENDAR